Workbook

Sheet formulier
A1: =VLOOKUP($E$1,bewerkingen!$A:$E,2,FALSE) -> #N/A | B1: Bewerkingcode 1 | E1: selecteer bewerking | K1: Klant | M1: =IF(M2="","klantnummer invullen",VLOOKUP(M2,klanten!B2:C350,2,FALSE)) -> klantnummer invullen
A2: =VLOOKUP($E$2,bewerkingen!$A:$E,2,FALSE) -> #N/A | B2: Bewerkingcode 2 (alleen voor HTC) | E2: selecteer bewerking | K2: Debiteuren nummer
A3: vrij veld | B3: Energie en grondstof toeslag: | E3: NEE | K3: Orderdatum | M3: =TODAY() -> 46190 | O3: =VLOOKUP(WEEKDAY(M3,2),weekdagen!A1:B10,2) -> woensdag
A4: 090-016 | B4: Lakstift (aantal) | K4: RAL | M4: RAL
A5: 090-023 | B5: Laagdikte rapport | E5: NEE | K5: Afleverdatum | O5: =VLOOKUP(WEEKDAY(M5,2),weekdagen!A1:B10,2) -> zaterdag
A6: 090-021 | B6: Meerprijs poeder | E6: 0 | K6: Betalingsreferentie
A7: 090-024 | B7: Meerprijs poeder per m2 | E7: =+F8 -> 0 | F7: 0 | G7: (aantal x prijs) | K7: Opmerkingen
A8: =VLOOKUP($E$1,bewerkingen!$A:$E,4,FALSE) -> #N/A | B8: Vaste prijsafspraak | F8: =SUM(I14:I70)+0.1*_xlfn.SINGLE(SUM(M14:M70)) -> 0 | G8: m2 | H8: =_xlfn.SINGLE(IFERROR(+E8/F8,0)) -> 0 | K8: Opgevoerd door | M8: 7 | O8: =VLOOKUP(M8,verkoper!B2:D8,2,FALSE) -> 2118804 | Q8: =VLOOKUP(+M8,verkoper!B2:D6,3,FALSE) -> #N/A
B9: Metaliseren | E9: =IF(VLOOKUP(E2,bewerkingen!A2:G14,7,FALSE)="Ja","Ja",VLOOKUP(E1,bewerkingen!A2:G14,7,FALSE)) -> #N/A | K9: Selectiecode | M9: P
A10: =IFERROR(VLOOKUP(A1,bewerkingen!B:D,3,FALSE),0) -> 0 | B10: Minimum orderwaarde | K10: Opslaan onder deze naam: | M10: =CONCATENATE(M2,"-",M6,) -> -
B12: ITEMS PER M2 | L12: ONDERDELEN
B13: Bewerking | C13: Aantal | D13: Te behandelen item | E13: Lengte | F13: Breedte | G13: Zijden | H13: M2 p/s | I13: M2 totaal | J13: Artikelcode | L13: Bewerking | M13: Aantal | N13: Te behandelen item | Q13: Artikelcode
H14: =_xlfn.SINGLE(IF(C14=0,0,(+E14*F14)/1000000*G14)) -> 0 | I14: =IF(H14=0,"",IF(H14<0.17,"ONDERDEEL",+H14*C14)) | J14: =IF(ISBLANK(B14)=TRUE,0,IF(B14=1,VLOOKUP($E$1,bewerkingen!$A$2:$C$30,2,FALSE),VLOOKUP($E$2,bewerkingen!$A$3:$C$30,2,FALSE))) -> 0 | Q14: =IF(ISBLANK(L14)=TRUE,0,IF(L14=1,VLOOKUP($E$1,bewerkingen!$A$2:$C$30,3,FALSE),VLOOKUP($E$2,bewerkingen!$A$3:$C$30,3,FALSE))) -> 0
H15: =_xlfn.SINGLE(IF(C15=0,0,(+E15*F15)/1000000*G15)) -> 0 | I15: =IF(H15=0,"",IF(H15<0.17,"ONDERDEEL",+H15*C15)) | J15: =IF(ISBLANK(B15)=TRUE,0,IF(B15=1,VLOOKUP($E$1,bewerkingen!$A$2:$C$30,2,FALSE),VLOOKUP($E$2,bewerkingen!$A$3:$C$30,2,FALSE))) -> 0 | Q15: =IF(ISBLANK(L15)=TRUE,0,IF(L15=1,VLOOKUP($E$1,bewerkingen!$A$2:$C$30,3,FALSE),VLOOKUP($E$2,bewerkingen!$A$3:$C$30,3,FALSE))) -> 0
H16: =_xlfn.SINGLE(IF(C16=0,0,(+E16*F16)/1000000*G16)) -> 0 | I16: =IF(H16=0,"",IF(H16<0.17,"ONDERDEEL",+H16*C16)) | J16: =IF(ISBLANK(B16)=TRUE,0,IF(B16=1,VLOOKUP($E$1,bewerkingen!$A$2:$C$30,2,FALSE),VLOOKUP($E$2,bewerkingen!$A$3:$C$30,2,FALSE))) -> 0 | Q16: =IF(ISBLANK(L16)=TRUE,0,IF(L16=1,VLOOKUP($E$1,bewerkingen!$A$2:$C$30,3,FALSE),VLOOKUP($E$2,bewerkingen!$A$3:$C$30,3,FALSE))) -> 0
H17: =_xlfn.SINGLE(IF(C17=0,0,(+E17*F17)/1000000*G17)) -> 0 | I17: =IF(H17=0,"",IF(H17<0.17,"ONDERDEEL",+H17*C17)) | J17: =IF(ISBLANK(B17)=TRUE,0,IF(B17=1,VLOOKUP($E$1,bewerkingen!$A$2:$C$30,2,FALSE),VLOOKUP($E$2,bewerkingen!$A$3:$C$30,2,FALSE))) -> 0 | Q17: =IF(ISBLANK(L17)=TRUE,0,IF(L17=1,VLOOKUP($E$1,bewerkingen!$A$2:$C$30,3,FALSE),VLOOKUP($E$2,bewerkingen!$A$3:$C$30,3,FALSE))) -> 0
H18: =_xlfn.SINGLE(IF(C18=0,0,(+E18*F18)/1000000*G18)) -> 0 | I18: =IF(H18=0,"",IF(H18<0.17,"ONDERDEEL",+H18*C18)) | J18: =IF(ISBLANK(B18)=TRUE,0,IF(B18=1,VLOOKUP($E$1,bewerkingen!$A$2:$C$30,2,FALSE),VLOOKUP($E$2,bewerkingen!$A$3:$C$30,2,FALSE))) -> 0 | Q18: =IF(ISBLANK(L18)=TRUE,0,IF(L18=1,VLOOKUP($E$1,bewerkingen!$A$2:$C$30,3,FALSE),VLOOKUP($E$2,bewerkingen!$A$3:$C$30,3,FALSE))) -> 0
H19: =_xlfn.SINGLE(IF(C19=0,0,(+E19*F19)/1000000*G19)) -> 0 | I19: =IF(H19=0,"",IF(H19<0.17,"ONDERDEEL",+H19*C19)) | J19: =IF(ISBLANK(B19)=TRUE,0,IF(B19=1,VLOOKUP($E$1,bewerkingen!$A$2:$C$30,2,FALSE),VLOOKUP($E$2,bewerkingen!$A$3:$C$30,2,FALSE))) -> 0 | Q19: =IF(ISBLANK(L19)=TRUE,0,IF(L19=1,VLOOKUP($E$1,bewerkingen!$A$2:$C$30,3,FALSE),VLOOKUP($E$2,bewerkingen!$A$3:$C$30,3,FALSE))) -> 0
H20: =_xlfn.SINGLE(IF(C20=0,0,(+E20*F20)/1000000*G20)) -> 0 | I20: =IF(H20=0,"",IF(H20<0.17,"ONDERDEEL",+H20*C20)) | J20: =IF(ISBLANK(B20)=TRUE,0,IF(B20=1,VLOOKUP($E$1,bewerkingen!$A$2:$C$30,2,FALSE),VLOOKUP($E$2,bewerkingen!$A$3:$C$30,2,FALSE))) -> 0 | Q20: =IF(ISBLANK(L20)=TRUE,0,IF(L20=1,VLOOKUP($E$1,bewerkingen!$A$2:$C$30,3,FALSE),VLOOKUP($E$2,bewerkingen!$A$3:$C$30,3,FALSE))) -> 0
H21: =_xlfn.SINGLE(IF(C21=0,0,(+E21*F21)/1000000*G21)) -> 0 | I21: =IF(H21=0,"",IF(H21<0.17,"ONDERDEEL",+H21*C21)) | J21: =IF(ISBLANK(B21)=TRUE,0,IF(B21=1,VLOOKUP($E$1,bewerkingen!$A$2:$C$30,2,FALSE),VLOOKUP($E$2,bewerkingen!$A$3:$C$30,2,FALSE))) -> 0 | Q21: =IF(ISBLANK(L21)=TRUE,0,IF(L21=1,VLOOKUP($E$1,bewerkingen!$A$2:$C$30,3,FALSE),VLOOKUP($E$2,bewerkingen!$A$3:$C$30,3,FALSE))) -> 0
H22: =_xlfn.SINGLE(IF(C22=0,0,(+E22*F22)/1000000*G22)) -> 0 | I22: =IF(H22=0,"",IF(H22<0.17,"ONDERDEEL",+H22*C22)) | J22: =IF(ISBLANK(B22)=TRUE,0,IF(B22=1,VLOOKUP($E$1,bewerkingen!$A$2:$C$30,2,FALSE),VLOOKUP($E$2,bewerkingen!$A$3:$C$30,2,FALSE))) -> 0 | Q22: =IF(ISBLANK(L22)=TRUE,0,IF(L22=1,VLOOKUP($E$1,bewerkingen!$A$2:$C$30,3,FALSE),VLOOKUP($E$2,bewerkingen!$A$3:$C$30,3,FALSE))) -> 0
H23: =_xlfn.SINGLE(IF(C23=0,0,(+E23*F23)/1000000*G23)) -> 0 | I23: =IF(H23=0,"",IF(H23<0.17,"ONDERDEEL",+H23*C23)) | J23: =IF(ISBLANK(B23)=TRUE,0,IF(B23=1,VLOOKUP($E$1,bewerkingen!$A$2:$C$30,2,FALSE),VLOOKUP($E$2,bewerkingen!$A$3:$C$30,2,FALSE))) -> 0 | Q23: =IF(ISBLANK(L23)=TRUE,0,IF(L23=1,VLOOKUP($E$1,bewerkingen!$A$2:$C$30,3,FALSE),VLOOKUP($E$2,bewerkingen!$A$3:$C$30,3,FALSE))) -> 0
H24: =_xlfn.SINGLE(IF(C24=0,0,(+E24*F24)/1000000*G24)) -> 0 | I24: =IF(H24=0,"",IF(H24<0.17,"ONDERDEEL",+H24*C24)) | J24: =IF(ISBLANK(B24)=TRUE,0,IF(B24=1,VLOOKUP($E$1,bewerkingen!$A$2:$C$30,2,FALSE),VLOOKUP($E$2,bewerkingen!$A$3:$C$30,2,FALSE))) -> 0 | Q24: =IF(ISBLANK(L24)=TRUE,0,IF(L24=1,VLOOKUP($E$1,bewerkingen!$A$2:$C$30,3,FALSE),VLOOKUP($E$2,bewerkingen!$A$3:$C$30,3,FALSE))) -> 0
H25: =_xlfn.SINGLE(IF(C25=0,0,(+E25*F25)/1000000*G25)) -> 0 | I25: =IF(H25=0,"",IF(H25<0.17,"ONDERDEEL",+H25*C25)) | J25: =IF(ISBLANK(B25)=TRUE,0,IF(B25=1,VLOOKUP($E$1,bewerkingen!$A$2:$C$30,2,FALSE),VLOOKUP($E$2,bewerkingen!$A$3:$C$30,2,FALSE))) -> 0 | Q25: =IF(ISBLANK(L25)=TRUE,0,IF(L25=1,VLOOKUP($E$1,bewerkingen!$A$2:$C$30,3,FALSE),VLOOKUP($E$2,bewerkingen!$A$3:$C$30,3,FALSE))) -> 0
... H70: =_xlfn.SINGLE(IF(C70=0,0,(+E70*F70)/1000000*G70)) -> 0 | I70: =IF(H70=0,"",IF(H70<0.17,"ONDERDEEL",+H70*C70)) | J70: =IF(ISBLANK(B70)=TRUE,0,IF(B70=1,VLOOKUP($E$1,bewerkingen!$A$2:$C$30,2,FALSE),VLOOKUP($E$2,bewerkingen!$A$3:$C$30,2,FALSE))) -> 0 | Q70: =IF(ISBLANK(L70)=TRUE,0,IF(L70=1,VLOOKUP($E$1,bewerkingen!$A$2:$C$30,3,FALSE),VLOOKUP($E$2,bewerkingen!$A$3:$C$30,3,FALSE))) -> 0

Sheet bewerkingen
A1: Bewerking | B1: M2 | C1: ONDERDELEN | D1: minimumorderwaarde artikel | E1: Prijsafspraak | F1: Energietoeslag | G1: Metaliseren ja/nee | I1: Lijst
A2: Stralen, 1 laags poedercoaten | B2: O-1xPC-M2 | C2: O-1xPC-OND | D2: O-1xPC-MIN | E2: O-1XPC-PA | G2: Nee | I2: JA
A3: Stralen, 2 laags poedercoaten | B3: O-2xPC-M2 | C3: O-2xPC-OND | D3: O-2xPC-MIN | E3: O-2XPC-PA | G3: Nee | I3: NEE
A4: Stralen, 3 laags poedercoaten | B4: O-3xPC-M2 | C4: O-3XPC-OND | D4: O-3xPC-MIN | E4: O-3XPC-PA | G4: Nee
A5: Stralen, metaliseren, 2 laags poedercoaten | B5: OX-2xPC-M2 | C5: OX-2xPC-OND | D5: OX-2xPC-MIN | E5: OX-2XPC-PA | G5: Ja
A6: Stralen, metaliseren, 3 laags poedercoaten | B6: OX-3xPC-M2 | C6: OX-3xPC-OND | D6: OX-3xPC-MIN | E6: OX-3xPC-PA | G6: Ja
A7: Kaalstralen en metalliseren | B7: kaal-OX | C7: kaal-OX | D7: kaal-OX-MIN | E7: kaal-OX-PA | G7: Ja
A8: Kaalstralen, 1 laags poedercoaten | B8: kaalO-1xPC-M2 | C8: kaalO-1xPC-OND | D8: kaal-OX-MIN | E8: kaal-OX-PA | G8: Nee
A9: Kaalstralen, 2 laags poedercoaten | B9: kaalO-2xPC-M2 | C9: kaalO-2xPC-OND | D9: kaalO-2xPC-MIN | E9: kaalO-2xPC-PA | G9: Nee
A10: Kaalstralen, metaliseren, 2 laags poedercoaten | B10: kaalOX-2xPC-M2 | C10: kaalOX-2xPC-OND | D10: kaalOX-2xPC-MIN | E10: kaalOX-2xPC-PA | G10: Ja
A11: Farina Stralen + 1 laags PC | B11: Farina | C11: Farina | D11: geen | E11: geen | G11: Nee
A12: Kaal stralen | B12: kaal stralen | C12: kaal stralen | D12: geen | E12: geen | G12: Nee
A13: Deksel 3laag Epoxy (a la Rilsaneren) / m2 | B13: RILS-3xPC RILS-M2 | C13: RILS-3xPC RILS-STUK | D13: geen | E13: geen | G13: Nee
A14: Lakstift | B14: 090-016 | C14: niet van toepassing | D14: geen | E14: geen | G14: Nee

Sheet klanten
A1: index | B1: Kolom1 | C1: klantnaam | D1: klant type | E1: verkoper | F1: prijslijst koppeling
A2: 1 | B2: 10526 | C2: Aalbers/Wico Defence & Security | D2: Poedercoat klant | E2: Wick Vermeulen | F2: Aalbers Wico | H2: =+Tabel1[[#This Row],[Kolom1]]+1-1 -> 10526
A3: 2 | B3: 10542 | C3: Blonk | D3: Poedercoat klant | E3: Wick Vermeulen | F3: Prijslijst Blonk | H3: =+Tabel1[[#This Row],[Kolom1]]+1-1 -> 10542
A4: 3 | B4: 10588 | C4: HTC parking & security B.V. | D4: Poedercoat klant | E4: Wick Vermeulen | F4: HTC Prijslijst | H4: =+Tabel1[[#This Row],[Kolom1]]+1-1 -> 10588
A5: 3 | B5: 10801 | C5: HTC Service & Instalation BV | E5: Wick Vermeulen | F5: HTC Prijslijst | H5: =+Tabel1[[#This Row],[Kolom1]]+1-1 -> 10801
A6: 4 | B6: 10728 | C6: A. vermeij beheer | D6: Poedercoat klant | E6: Wick Vermeulen | F6: Standaard prijslijst poedercoaten | H6: =+Tabel1[[#This Row],[Kolom1]]+1-1 -> 10728
A7: 5 | B7: 10525 | C7: 4More Technology B.V. | D7: Poedercoat klant | E7: Wick Vermeulen | F7: Standaard prijslijst poedercoaten | H7: =+Tabel1[[#This Row],[Kolom1]]+1-1 -> 10525
A8: 5 | B8: 11057 | C8: A. Hogendoorn Metaalbewerking | E8: Wick Vermeulen | F8: Standaard prijslijst poedercoaten | H8: =+Tabel1[[#This Row],[Kolom1]]+1-1 -> 11057
A9: 5 | B9: 11169 | C9: Alexanderpark Ouddorp BV | E9: Gerwin Smaal | F9: Standaard prijslijst poedercoaten | H9: =+Tabel1[[#This Row],[Kolom1]]+1-1 -> 11169
A10: 5 | B10: 10529 | C10: ARCO metaal B.V. | D10: Poedercoat klant | E10: Wick Vermeulen | F10: Standaard prijslijst poedercoaten | H10: =+Tabel1[[#This Row],[Kolom1]]+1-1 -> 10529
A11: 6 | B11: 10655 | C11: Aannemingsbedrijf Van Zoest B.V. | D11: Poedercoat klant | E11: Wick Vermeulen | F11: Standaard prijslijst poedercoaten | H11: =+Tabel1[[#This Row],[Kolom1]]+1-1 -> 10655
A12: 7 | B12: 10527 | C12: ABC Hekwerk Westland / Rijnmond | D12: Poedercoat klant | E12: Wick Vermeulen | F12: Standaard prijslijst poedercoaten | H12: =+Tabel1[[#This Row],[Kolom1]]+1-1 -> 10527
A13: 8 | B13: 10704 | C13: ABC Techniek B.V. | D13: Poedercoat klant | E13: Wick Vermeulen | F13: Standaard prijslijst poedercoaten | H13: =+Tabel1[[#This Row],[Kolom1]]+1-1 -> 10704
A14: 9 | B14: 11214 | C14: Air Exchange | E14: Wick Vermeulen | F14: Standaard prijslijst poedercoaten | H14: =+Tabel1[[#This Row],[Kolom1]]+1-1 -> 11214
A15: 10 | B15: 10947 | C15: Alebra FireProtection Sprinklers | E15: Wick Vermeulen | F15: Standaard prijslijst poedercoaten | H15: =+Tabel1[[#This Row],[Kolom1]]+1-1 -> 10947
A16: 11 | B16: 10013 | C16: ALECS BV | D16: Custom klant | E16: Wick Vermeulen | F16: Standaard prijslijst poedercoaten | H16: =+Tabel1[[#This Row],[Kolom1]]+1-1 -> 10013
A17: 12 | B17: 11195 | C17: All Modul B.V. | E17: Wick Vermeulen | F17: Standaard prijslijst poedercoaten | H17: =+Tabel1[[#This Row],[Kolom1]]+1-1 -> 11195
A18: 13 | B18: 10547 | C18: Alles laten logen | D18: Poedercoat klant | E18: Wick Vermeulen | F18: Standaard prijslijst poedercoaten | H18: =+Tabel1[[#This Row],[Kolom1]]+1-1 -> 10547
A19: 14 | B19: 10528 | C19: ALOI-DESIGN | D19: Poedercoat klant | E19: Wick Vermeulen | F19: Standaard prijslijst poedercoaten | H19: =+Tabel1[[#This Row],[Kolom1]]+1-1 -> 10528
A20: 15 | B20: 11206 | C20: Amusementsbedrijf TCPJ van den Bulk | D20: Poedercoat klant | F20: Standaard prijslijst poedercoaten | H20: =+Tabel1[[#This Row],[Kolom1]]+1-1 -> 11206
A21: 16 | B21: 11039 | C21: APCZ poeder coating Zuidland | E21: Wick Vermeulen | F21: Standaard prijslijst poedercoaten | H21: =+Tabel1[[#This Row],[Kolom1]]+1-1 -> 11039
A22: 17 | B22: 11274 | C22: Aqua+ Sprinklersystemen | E22: Wick Vermeulen | F22: Standaard prijslijst poedercoaten | H22: =+Tabel1[[#This Row],[Kolom1]]+1-1 -> 11274
A23: 19 | B23: 10776 | C23: Armada Mobility B.V. | D23: Poedercoat klant | E23: Wick Vermeulen | F23: Standaard prijslijst poedercoaten | H23: =+Tabel1[[#This Row],[Kolom1]]+1-1 -> 10776
A24: 20 | B24: 10936 | C24: Arno Bremer Produkties B.V. | E24: Wick Vermeulen | F24: Standaard prijslijst poedercoaten | H24: =+Tabel1[[#This Row],[Kolom1]]+1-1 -> 10936
A25: 21 | B25: 10530 | C25: ARO Beheer B.V. | D25: Poedercoat klant | E25: Wick Vermeulen | F25: Standaard prijslijst poedercoaten | H25: =+Tabel1[[#This Row],[Kolom1]]+1-1 -> 10530
A26: 22 | B26: 10531 | C26: Array Industries B.V. | D26: Poedercoat klant | E26: Wick Vermeulen | F26: Standaard prijslijst poedercoaten | H26: =+Tabel1[[#This Row],[Kolom1]]+1-1 -> 10531
A27: 23 | B27: 10886 | C27: Artworx v.o.f. | E27: Wick Vermeulen | F27: Standaard prijslijst poedercoaten | H27: =+Tabel1[[#This Row],[Kolom1]]+1-1 -> 10886
A28: 24 | B28: 10532 | C28: Astralift b.v. | D28: Poedercoat klant | E28: Wick Vermeulen | F28: Standaard prijslijst poedercoaten | H28: =+Tabel1[[#This Row],[Kolom1]]+1-1 -> 10532
A29: 25 | B29: 10843 | C29: ASW Autoschade Waddinxveen | D29: Poedercoat klant | E29: Wick Vermeulen | F29: Standaard prijslijst poedercoaten | H29: =+Tabel1[[#This Row],[Kolom1]]+1-1 -> 10843
A30: 26 | B30: 10533 | C30: Autobedrijf "Reijerskoop" | D30: Poedercoat klant | E30: Wick Vermeulen | F30: Standaard prijslijst poedercoaten | H30: =+Tabel1[[#This Row],[Kolom1]]+1-1 -> 10533
A31: 27 | B31: 10954 | C31: Autobedrijf R.Evers | E31: Wick Vermeulen | F31: Standaard prijslijst poedercoaten | H31: =+Tabel1[[#This Row],[Kolom1]]+1-1 -> 10954
A32: 28 | B32: 11114 | C32: Autoherstel van der Laan | F32: Standaard prijslijst poedercoaten | H32: =+Tabel1[[#This Row],[Kolom1]]+1-1 -> 11114
A33: 29 | B33: 10534 | C33: AVM Industrial Parts BV | D33: Poedercoat klant | E33: Wick Vermeulen | F33: Standaard prijslijst poedercoaten | H33: =+Tabel1[[#This Row],[Kolom1]]+1-1 -> 10534
A34: 30 | B34: 11139 | C34: AVR Watersport B.V. | E34: Wick Vermeulen | F34: Standaard prijslijst poedercoaten | H34: =+Tabel1[[#This Row],[Kolom1]]+1-1 -> 11139
A35: 31 | B35: 10536 | C35: Awad | D35: Poedercoat klant | E35: Wick Vermeulen | F35: Standaard prijslijst poedercoaten | H35: =+Tabel1[[#This Row],[Kolom1]]+1-1 -> 10536
A36: 32 | B36: 10537 | C36: BAC Machinebouw B.V. | D36: Poedercoat klant | E36: Wick Vermeulen | F36: Standaard prijslijst poedercoaten | H36: =+Tabel1[[#This Row],[Kolom1]]+1-1 -> 10537
A37: 33 | B37: 10999 | C37: BAC Verspaning B.V. | E37: Wick Vermeulen | F37: Standaard prijslijst poedercoaten | H37: =+Tabel1[[#This Row],[Kolom1]]+1-1 -> 10999
A38: 34 | B38: 10538 | C38: BB Constructiewerken (NIET GEBRUIKEN) | D38: Poedercoat klant | E38: Wick Vermeulen | F38: Standaard prijslijst poedercoaten | H38: =+Tabel1[[#This Row],[Kolom1]]+1-1 -> 10538
A39: 35 | B39: 10539 | C39: Beaujan & De Vos BV | D39: Poedercoat klant | E39: Wick Vermeulen | F39: Standaard prijslijst poedercoaten | H39: =+Tabel1[[#This Row],[Kolom1]]+1-1 -> 10539
A40: 36 | B40: 10967 | C40: Bergschenhoekse Constructiebouw B.V. | E40: Wick Vermeulen | F40: Standaard prijslijst poedercoaten | H40: =+Tabel1[[#This Row],[Kolom1]]+1-1 -> 10967
A41: 37 | B41: 10540 | C41: Berndsen B.V. | D41: Poedercoat klant | E41: Wick Vermeulen | F41: Standaard prijslijst poedercoaten | H41: =+Tabel1[[#This Row],[Kolom1]]+1-1 -> 10540
A42: 38 | B42: 10669 | C42: Beton restore | D42: Poedercoat klant | E42: Wick Vermeulen | F42: Standaard prijslijst poedercoaten | H42: =+Tabel1[[#This Row],[Kolom1]]+1-1 -> 10669
A43: 39 | B43: 10541 | C43: Bikker & Zn | D43: Poedercoat klant | E43: Wick Vermeulen | F43: Standaard prijslijst poedercoaten | H43: =+Tabel1[[#This Row],[Kolom1]]+1-1 -> 10541
A44: 40 | B44: 10555 | C44: Bilfinger ROB BV | D44: Poedercoat klant | E44: Wick Vermeulen | F44: Standaard prijslijst poedercoaten | H44: =+Tabel1[[#This Row],[Kolom1]]+1-1 -> 10555
A45: 41 | B45: 11245 | C45: Bird Control Solutions B.V. | E45: Wick Vermeulen | F45: Standaard prijslijst poedercoaten | H45: =+Tabel1[[#This Row],[Kolom1]]+1-1 -> 11245
A46: 42 | B46: 10713 | C46: BLC-de Kruijf B.V. | D46: Poedercoat klant | E46: Wick Vermeulen | F46: Standaard prijslijst poedercoaten | H46: =+Tabel1[[#This Row],[Kolom1]]+1-1 -> 10713
A47: 44 | B47: 10760 | C47: BM projectvloeren Moerman | E47: Wick Vermeulen | F47: Standaard prijslijst poedercoaten | H47: =+Tabel1[[#This Row],[Kolom1]]+1-1 -> 10760
A48: 45 | B48: 10992 | C48: BM Totaal Afbouw B.V. | E48: Wick Vermeulen | F48: Standaard prijslijst poedercoaten | H48: =+Tabel1[[#This Row],[Kolom1]]+1-1 -> 10992
A49: 46 | B49: 11284 | C49: BNR Totale Kantoorinrichting B.V. | E49: Wick Vermeulen | F49: Standaard prijslijst poedercoaten | H49: =+Tabel1[[#This Row],[Kolom1]]+1-1 -> 11284
A50: 47 | B50: 10543 | C50: Boeg B.V. | D50: Poedercoat klant | E50: Wick Vermeulen | F50: Standaard prijslijst poedercoaten | H50: =+Tabel1[[#This Row],[Kolom1]]+1-1 -> 10543
A51: 48 | B51: 123565 | C51: Bos Nieuwerkerk B.V. | E51: Wick Vermeulen | F51: Standaard prijslijst poedercoaten | H51: =+Tabel1[[#This Row],[Kolom1]]+1-1 -> 123565
A52: 49 | B52: 10545 | C52: Bos V8 Supercars B.V. | D52: Poedercoat klant | E52: Wick Vermeulen | F52: Standaard prijslijst poedercoaten | H52: =+Tabel1[[#This Row],[Kolom1]]+1-1 -> 10545
A53: 50 | B53: 123575 | C53: Boskalis Nederland B.V. | E53: Wick Vermeulen | F53: Standaard prijslijst poedercoaten | H53: =+Tabel1[[#This Row],[Kolom1]]+1-1 -> 123575
A54: 51 | B54: 10546 | C54: Botau BV | D54: Poedercoat klant | E54: Wick Vermeulen | F54: Standaard prijslijst poedercoaten | H54: =+Tabel1[[#This Row],[Kolom1]]+1-1 -> 10546
A55: 52 | B55: 11032 | C55: Bourgonje B.V. | E55: Wick Vermeulen | F55: Standaard prijslijst poedercoaten | H55: =+Tabel1[[#This Row],[Kolom1]]+1-1 -> 11032
A56: 53 | B56: 11122 | C56: Bouwbedrijf De Reiger B.V. | E56: Wick Vermeulen | F56: Standaard prijslijst poedercoaten | H56: =+Tabel1[[#This Row],[Kolom1]]+1-1 -> 11122
A57: 54 | B57: 10956 | C57: Brugmans Lasservice & Metaalwerken | E57: Wick Vermeulen | F57: Standaard prijslijst poedercoaten | H57: =+Tabel1[[#This Row],[Kolom1]]+1-1 -> 10956
A58: 55 | B58: 10548 | C58: Bucon Industries BV | D58: Poedercoat klant | E58: Wick Vermeulen | F58: Standaard prijslijst poedercoaten | H58: =+Tabel1[[#This Row],[Kolom1]]+1-1 -> 10548
A59: 56 | B59: 10549 | C59: Burg Mechanisatie | D59: Poedercoat klant | E59: Wick Vermeulen | F59: Standaard prijslijst poedercoaten | H59: =+Tabel1[[#This Row],[Kolom1]]+1-1 -> 10549
A60: 57 | B60: 11271 | C60: Buro Binnenkans | E60: Wick Vermeulen | F60: Standaard prijslijst poedercoaten | H60: =+Tabel1[[#This Row],[Kolom1]]+1-1 -> 11271
A61: 58 | B61: 10550 | C61: Carpe Hortus | D61: Poedercoat klant | E61: Wick Vermeulen | F61: Standaard prijslijst poedercoaten | H61: =+Tabel1[[#This Row],[Kolom1]]+1-1 -> 10550
A62: 59 | B62: 10551 | C62: CC Engineering B.V. | D62: Poedercoat klant | E62: Wick Vermeulen | F62: Standaard prijslijst poedercoaten | H62: =+Tabel1[[#This Row],[Kolom1]]+1-1 -> 10551
A63: 60 | B63: 10552 | C63: Conecto Networks B.V. | D63: Poedercoat klant | E63: Wick Vermeulen | F63: Standaard prijslijst poedercoaten | H63: =+Tabel1[[#This Row],[Kolom1]]+1-1 -> 10552
A64: 61 | B64: 11077 | C64: Constr.Bedr. en Handelsondern. W. Roskam B.V. | E64: Wick Vermeulen | F64: Standaard prijslijst poedercoaten | H64: =+Tabel1[[#This Row],[Kolom1]]+1-1 -> 11077
A65: 62 | B65: 10849 | C65: DDOUBLEYOU STEEL | D65: Poedercoat klant | E65: Wick Vermeulen | F65: Standaard prijslijst poedercoaten | H65: =+Tabel1[[#This Row],[Kolom1]]+1-1 -> 10849
A66: 63 | B66: 123550 | C66: De Binnendeur | E66: Wick Vermeulen | F66: Standaard prijslijst poedercoaten | H66: =+Tabel1[[#This Row],[Kolom1]]+1-1 -> 123550
A67: 64 | B67: 10277 | C67: De Groot Installatiegroep Brandbeveiliging B.V. | D67: Poedercoat klant | E67: Wick Vermeulen | F67: Standaard prijslijst poedercoaten | H67: =+Tabel1[[#This Row],[Kolom1]]+1-1 -> 10277
A68: 65 | B68: 10556 | C68: De Klerk Binnenbouw B.V. | D68: Poedercoat klant | E68: Wick Vermeulen | F68: Standaard prijslijst poedercoaten | H68: =+Tabel1[[#This Row],[Kolom1]]+1-1 -> 10556
A69: 66 | B69: 11086 | C69: De Pofferij | E69: Wick Vermeulen | F69: Standaard prijslijst poedercoaten | H69: =+Tabel1[[#This Row],[Kolom1]]+1-1 -> 11086
A70: 67 | B70: 10850 | C70: de Prie Calculatie & Advies | D70: Custom klant | E70: #### #### | F70: Standaard prijslijst poedercoaten | H70: =+Tabel1[[#This Row],[Kolom1]]+1-1 -> 10850
A71: 68 | B71: 11083 | C71: De Ruiter Staal | E71: Wick Vermeulen | F71: Standaard prijslijst poedercoaten | H71: =+Tabel1[[#This Row],[Kolom1]]+1-1 -> 11083
A72: 69 | B72: 10847 | C72: de Vos techniek | D72: Poedercoat klant | E72: Wick Vermeulen | F72: Standaard prijslijst poedercoaten | H72: =+Tabel1[[#This Row],[Kolom1]]+1-1 -> 10847
A73: 70 | B73: 10558 | C73: deedy Projects | D73: Poedercoat klant | E73: Wick Vermeulen | F73: Standaard prijslijst poedercoaten | H73: =+Tabel1[[#This Row],[Kolom1]]+1-1 -> 10558
A74: 71 | B74: 10559 | C74: DG Sound | D74: Poedercoat klant | E74: Wick Vermeulen | F74: Standaard prijslijst poedercoaten | H74: =+Tabel1[[#This Row],[Kolom1]]+1-1 -> 10559
A75: 72 | B75: 10707 | C75: DHS Projecten | D75: Poedercoat klant | E75: Wick Vermeulen | F75: Prijslijst Schielas | H75: =+Tabel1[[#This Row],[Kolom1]]+1-1 -> 10707
A76: 73 | B76: 11074 | C76: Domera | E76: Wick Vermeulen | F76: Standaard prijslijst poedercoaten | H76: =+Tabel1[[#This Row],[Kolom1]]+1-1 -> 11074
A77: 74 | B77: 10896 | C77: Double Performance B.V. | E77: Wick Vermeulen | F77: Standaard prijslijst poedercoaten | H77: =+Tabel1[[#This Row],[Kolom1]]+1-1 -> 10896
A78: 75 | B78: 10994 | C78: Drielox Luchtkanalen B.V. | E78: Wick Vermeulen | F78: Standaard prijslijst poedercoaten | H78: =+Tabel1[[#This Row],[Kolom1]]+1-1 -> 10994
A79: 76 | B79: 10561 | C79: Dumaco Montfoort | D79: Poedercoat klant | E79: Wick Vermeulen | F79: Standaard prijslijst poedercoaten | H79: =+Tabel1[[#This Row],[Kolom1]]+1-1 -> 10561
A80: 77 | B80: 11132 | C80: Dupree Makelaars o.g. B.V. | E80: Wick Vermeulen | F80: Standaard prijslijst poedercoaten | H80: =+Tabel1[[#This Row],[Kolom1]]+1-1 -> 11132
A81: 78 | B81: 11300 | C81: Dutch Climate Projects | E81: Wick Vermeulen | F81: Standaard prijslijst poedercoaten | H81: =+Tabel1[[#This Row],[Kolom1]]+1-1 -> 11300
A82: 79 | B82: 10562 | C82: Economic Holland | D82: Poedercoat klant | E82: Wick Vermeulen | F82: Standaard prijslijst poedercoaten | H82: =+Tabel1[[#This Row],[Kolom1]]+1-1 -> 10562
A83: 80 | B83: 10563 | C83: Edrie Montagebedrijf | D83: Poedercoat klant | E83: Wick Vermeulen | F83: Standaard prijslijst poedercoaten | H83: =+Tabel1[[#This Row],[Kolom1]]+1-1 -> 10563
A84: 81 | B84: 10403 | C84: Eekels Pompen B.V. | D84: Poedercoat klant | E84: Wick Vermeulen | F84: Standaard prijslijst poedercoaten | H84: =+Tabel1[[#This Row],[Kolom1]]+1-1 -> 10403
A85: 82 | B85: 10739 | C85: EK Coatings B.V. | D85: Poedercoat klant | E85: Wick Vermeulen | F85: Standaard prijslijst poedercoaten | H85: =+Tabel1[[#This Row],[Kolom1]]+1-1 -> 10739
A86: 83 | B86: 10553 | C86: EKO Solution B.V. | D86: Poedercoat klant | E86: Wick Vermeulen | F86: Standaard prijslijst poedercoaten | H86: =+Tabel1[[#This Row],[Kolom1]]+1-1 -> 10553
A87: 84 | B87: 10795 | C87: Eurogips B.V. | D87: Poedercoat klant | E87: Wick Vermeulen | F87: Standaard prijslijst poedercoaten | H87: =+Tabel1[[#This Row],[Kolom1]]+1-1 -> 10795
A88: 85 | B88: 11167 | C88: Eurostrut Support Systems & Solutions B.V. | E88: Wick Vermeulen | F88: Standaard prijslijst poedercoaten | H88: =+Tabel1[[#This Row],[Kolom1]]+1-1 -> 11167
A89: 86 | B89: 10565 | C89: EV Bouw | D89: Poedercoat klant | E89: Wick Vermeulen | F89: Standaard prijslijst poedercoaten | H89: =+Tabel1[[#This Row],[Kolom1]]+1-1 -> 10565
A90: 87 | B90: 10738 | C90: Evers Staalconstructies | D90: Poedercoat klant | E90: Wick Vermeulen | F90: Standaard prijslijst poedercoaten | H90: =+Tabel1[[#This Row],[Kolom1]]+1-1 -> 10738
A91: 88 | B91: 10566 | C91: Extreme Cars and Boats USA B.V. | D91: Poedercoat klant | E91: Wick Vermeulen | F91: Standaard prijslijst poedercoaten | H91: =+Tabel1[[#This Row],[Kolom1]]+1-1 -> 10566
A92: 89 | B92: 10829 | C92: F.B.F.B. Onderhoud | D92: Poedercoat klant | E92: Wick Vermeulen | F92: Standaard prijslijst poedercoaten | H92: =+Tabel1[[#This Row],[Kolom1]]+1-1 -> 10829
A93: 90 | B93: 10729 | C93: F.J.A. Bosman | D93: Poedercoat klant | E93: Wick Vermeulen | F93: Standaard prijslijst poedercoaten | H93: =+Tabel1[[#This Row],[Kolom1]]+1-1 -> 10729
A94: 91 | B94: 10567 | C94: Ferro Design | D94: Poedercoat klant | E94: Wick Vermeulen | F94: Standaard prijslijst poedercoaten | H94: =+Tabel1[[#This Row],[Kolom1]]+1-1 -> 10567
A95: 92 | B95: 11158 | C95: Fields Engineering | E95: Wick Vermeulen | F95: Standaard prijslijst poedercoaten | H95: =+Tabel1[[#This Row],[Kolom1]]+1-1 -> 11158
A96: 93 | B96: 10805 | C96: Firma A. Breugem & Zonen | D96: Poedercoat klant | E96: Wick Vermeulen | F96: Standaard prijslijst poedercoaten | H96: =+Tabel1[[#This Row],[Kolom1]]+1-1 -> 10805
A97: 94 | B97: 10874 | C97: Flow Engineering | E97: Wick Vermeulen | F97: Standaard prijslijst poedercoaten | H97: =+Tabel1[[#This Row],[Kolom1]]+1-1 -> 10874
A98: 95 | B98: 10743 | C98: FLS Company Nederland N.V. | D98: Poedercoat klant | E98: Wick Vermeulen | F98: Standaard prijslijst poedercoaten | H98: =+Tabel1[[#This Row],[Kolom1]]+1-1 -> 10743
A99: 96 | B99: 11017 | C99: Frimex Installatie B.V. | E99: Wick Vermeulen | F99: Standaard prijslijst poedercoaten | H99: =+Tabel1[[#This Row],[Kolom1]]+1-1 -> 11017
A100: 97 | B100: 10568 | C100: Fruitmasters B.V. | D100: Poedercoat klant | E100: Wick Vermeulen | F100: Standaard prijslijst poedercoaten | H100: =+Tabel1[[#This Row],[Kolom1]]+1-1 -> 10568
...

Sheet weekdagen
A1: 1 | B1: maandag
A2: 2 | B2: dinsdag
A3: 3 | B3: woensdag
A4: 4 | B4: donderdag
A5: 5 | B5: vrijdag
A6: 6 | B6: zaterdag
A7: 7 | B7: zondag

Sheet proces en easylink
A1: Instellen easylink
M2: volgorde prijs hantering
A3: bewerking 1 | B3: maximaal 2 bewerkingen per order
A4: bewerking 2 | B4: maximaal 2 bewerkingen per order | M4: Prijslijst
A5: energie toeslag | B5: artikel in vrije veld van de bewerking wordt gebruikt. Waarbij bij 1 onderdeel; 0,1 m2 is. | M5: Prijsafspraak klant op artikel
A6: laagdikte rapport | B6: 1 regel met , aantal 1 , tegen prijs 0 | I6: hoe moet men dit doen? Debiteuren nummer + betalingsreferentie | M6: Artikelprijs
A7: Laagdikte rapport | B7: Als er een artikel laagdikte voorkomt op de order, dan label laagdikte aanzetten in V-plan
A8: Meerprijs poeder | B8: 1 regel met , aantal 1 , tegen aangegeven prijs
A9: Aanvulling | B9: 1 regel met , aangeven aantal , tegen aangegeven prijs, met omschrijving in de artikelnotities
A10: Vaste prijsafspraak | B10: Order opvoeren als m2 * afgesproken prijs… | J10: Ophalen van bestand; en aanmaken op anders folderonder salesordernummer. Oude file naar andere folder?
A13: Is het mogelijk om het label "metaliseren" aan te zetten inV-plan, als artikel met metaliseren wordt gebruikt?
B14: customveld invullen voor toevoegen van een label
B19: een klant moet altijd gekoppeld zijn aan een prijslijst
B20: Prijslijst moet minimum orderwaarde bevatten

Sheet verkoper
A2: Wick | B2: 1 | C2: 2116140 | D2: 477e66b0-1064-4d83-a71f-744c202c406f
A3: Inge | B3: 2 | C3: 2116152 | D3: 30cb4967-a8ab-4f7b-a82e-8292815ecf36
A4: Ton | B4: 3 | C4: 2116138 | D4: 20081471-cf33-492b-acfa-0a065186c95d
A5: Daniel | B5: 4 | C5: 2116141 | D5: d55875ee-27d3-4696-a557-5571c4b89dc6
A6: Gerwin | B6: 5 | C6: 2116134 | D6: 94223b38-d29e-4887-8a70-fb5ec1588568
A7: Diana | B7: 6 | C7: xxx | D7: 5af42c7a-1bab-4c0b-a686-e87fa24e2839
A8: Michelle | B8: 7 | C8: 2118804 | D8: 9422cfab-fe85-439d-84a8-3317d27b3d32
