Workbook

Sheet formulier
A1: =VLOOKUP($E$1,bewerkingen!$A:$E,2,FALSE) -> #N/A | B1: Bewerkingcode 1 | E1: selecteer bewerking | K1: Klant | M1: =IF(M2="","klantnummer invullen",VLOOKUP(M2,klanten!B2:C350,2,FALSE)) -> klantnummer invullen
A2: =VLOOKUP($E$2,bewerkingen!$A:$E,2,FALSE) -> #N/A | B2: Bewerkingcode 2 (alleen voor HTC) | E2: selecteer bewerking | K2: Debiteuren nummer
A3: vrij veld | B3: Energie en grondstof toeslag: | E3: NEE | K3: Orderdatum | M3: =TODAY() -> 46190 | O3: =VLOOKUP(WEEKDAY(M3,2),weekdagen!A1:B10,2) -> woensdag
A4: 090-016 | B4: Lakstift (aantal) | K4: RAL | M4: RAL
A5: 090-023 | B5: Laagdikte rapport | E5: NEE | K5: Afleverdatum | O5: =VLOOKUP(WEEKDAY(M5,2),weekdagen!A1:B10,2) -> zaterdag
A6: 090-021 | B6: Meerprijs poeder | E6: 0 | K6: Betalingsreferentie
A7: 090-024 | B7: Meerprijs poeder per m2 | E7: =+F8 -> 0 | F7: 0 | G7: (aantal x prijs) | K7: Opmerkingen
A8: =VLOOKUP($E$1,bewerkingen!$A:$E,4,FALSE) -> #N/A | B8: Vaste prijsafspraak | F8: =SUM(I14:I70)+0.1*_xlfn.SINGLE(SUM(M14:M70)) -> 0 | G8: m2 | H8: =_xlfn.SINGLE(IFERROR(+E8/F8,0)) -> 0 | K8: Opgevoerd door | M8: 7 | O8: =VLOOKUP(M8,verkoper!B2:D8,2,FALSE) -> 2118804 | Q8: =VLOOKUP(+M8,verkoper!B2:D6,3,FALSE) -> #N/A
B9: Metaliseren | E9: =IF(VLOOKUP(E2,bewerkingen!A2:G14,7,FALSE)="Ja","Ja",VLOOKUP(E1,bewerkingen!A2:G14,7,FALSE)) -> #N/A | K9: Selectiecode | M9: P
A10: =IFERROR(VLOOKUP(A1,bewerkingen!B:D,3,FALSE),0) -> 0 | B10: Minimum orderwaarde | K10: Opslaan onder deze naam: | M10: =CONCATENATE(M2,"-",M6,) -> -
B12: ITEMS PER M2 | L12: ONDERDELEN
B13: Bewerking | C13: Aantal | D13: Te behandelen item | E13: Lengte | F13: Breedte | G13: Zijden | H13: M2 p/s | I13: M2 totaal | J13: Artikelcode | L13: Bewerking | M13: Aantal | N13: Te behandelen item | Q13: Artikelcode
H14: =_xlfn.SINGLE(IF(C14=0,0,(+E14*F14)/1000000*G14)) -> 0 | I14: =IF(H14=0,"",IF(H14<0.17,"ONDERDEEL",+H14*C14)) | J14: =IF(ISBLANK(B14)=TRUE,0,IF(B14=1,VLOOKUP($E$1,bewerkingen!$A$2:$C$30,2,FALSE),VLOOKUP($E$2,bewerkingen!$A$3:$C$30,2,FALSE))) -> 0 | Q14: =IF(ISBLANK(L14)=TRUE,0,IF(L14=1,VLOOKUP($E$1,bewerkingen!$A$2:$C$30,3,FALSE),VLOOKUP($E$2,bewerkingen!$A$3:$C$30,3,FALSE))) -> 0
H15: =_xlfn.SINGLE(IF(C15=0,0,(+E15*F15)/1000000*G15)) -> 0 | I15: =IF(H15=0,"",IF(H15<0.17,"ONDERDEEL",+H15*C15)) | J15: =IF(ISBLANK(B15)=TRUE,0,IF(B15=1,VLOOKUP($E$1,bewerkingen!$A$2:$C$30,2,FALSE),VLOOKUP($E$2,bewerkingen!$A$3:$C$30,2,FALSE))) -> 0 | Q15: =IF(ISBLANK(L15)=TRUE,0,IF(L15=1,VLOOKUP($E$1,bewerkingen!$A$2:$C$30,3,FALSE),VLOOKUP($E$2,bewerkingen!$A$3:$C$30,3,FALSE))) -> 0
H16: =_xlfn.SINGLE(IF(C16=0,0,(+E16*F16)/1000000*G16)) -> 0 | I16: =IF(H16=0,"",IF(H16<0.17,"ONDERDEEL",+H16*C16)) | J16: =IF(ISBLANK(B16)=TRUE,0,IF(B16=1,VLOOKUP($E$1,bewerkingen!$A$2:$C$30,2,FALSE),VLOOKUP($E$2,bewerkingen!$A$3:$C$30,2,FALSE))) -> 0 | Q16: =IF(ISBLANK(L16)=TRUE,0,IF(L16=1,VLOOKUP($E$1,bewerkingen!$A$2:$C$30,3,FALSE),VLOOKUP($E$2,bewerkingen!$A$3:$C$30,3,FALSE))) -> 0
H17: =_xlfn.SINGLE(IF(C17=0,0,(+E17*F17)/1000000*G17)) -> 0 | I17: =IF(H17=0,"",IF(H17<0.17,"ONDERDEEL",+H17*C17)) | J17: =IF(ISBLANK(B17)=TRUE,0,IF(B17=1,VLOOKUP($E$1,bewerkingen!$A$2:$C$30,2,FALSE),VLOOKUP($E$2,bewerkingen!$A$3:$C$30,2,FALSE))) -> 0 | Q17: =IF(ISBLANK(L17)=TRUE,0,IF(L17=1,VLOOKUP($E$1,bewerkingen!$A$2:$C$30,3,FALSE),VLOOKUP($E$2,bewerkingen!$A$3:$C$30,3,FALSE))) -> 0
H18: =_xlfn.SINGLE(IF(C18=0,0,(+E18*F18)/1000000*G18)) -> 0 | I18: =IF(H18=0,"",IF(H18<0.17,"ONDERDEEL",+H18*C18)) | J18: =IF(ISBLANK(B18)=TRUE,0,IF(B18=1,VLOOKUP($E$1,bewerkingen!$A$2:$C$30,2,FALSE),VLOOKUP($E$2,bewerkingen!$A$3:$C$30,2,FALSE))) -> 0 | Q18: =IF(ISBLANK(L18)=TRUE,0,IF(L18=1,VLOOKUP($E$1,bewerkingen!$A$2:$C$30,3,FALSE),VLOOKUP($E$2,bewerkingen!$A$3:$C$30,3,FALSE))) -> 0
H19: =_xlfn.SINGLE(IF(C19=0,0,(+E19*F19)/1000000*G19)) -> 0 | I19: =IF(H19=0,"",IF(H19<0.17,"ONDERDEEL",+H19*C19)) | J19: =IF(ISBLANK(B19)=TRUE,0,IF(B19=1,VLOOKUP($E$1,bewerkingen!$A$2:$C$30,2,FALSE),VLOOKUP($E$2,bewerkingen!$A$3:$C$30,2,FALSE))) -> 0 | Q19: =IF(ISBLANK(L19)=TRUE,0,IF(L19=1,VLOOKUP($E$1,bewerkingen!$A$2:$C$30,3,FALSE),VLOOKUP($E$2,bewerkingen!$A$3:$C$30,3,FALSE))) -> 0
H20: =_xlfn.SINGLE(IF(C20=0,0,(+E20*F20)/1000000*G20)) -> 0 | I20: =IF(H20=0,"",IF(H20<0.17,"ONDERDEEL",+H20*C20)) | J20: =IF(ISBLANK(B20)=TRUE,0,IF(B20=1,VLOOKUP($E$1,bewerkingen!$A$2:$C$30,2,FALSE),VLOOKUP($E$2,bewerkingen!$A$3:$C$30,2,FALSE))) -> 0 | Q20: =IF(ISBLANK(L20)=TRUE,0,IF(L20=1,VLOOKUP($E$1,bewerkingen!$A$2:$C$30,3,FALSE),VLOOKUP($E$2,bewerkingen!$A$3:$C$30,3,FALSE))) -> 0
H21: =_xlfn.SINGLE(IF(C21=0,0,(+E21*F21)/1000000*G21)) -> 0 | I21: =IF(H21=0,"",IF(H21<0.17,"ONDERDEEL",+H21*C21)) | J21: =IF(ISBLANK(B21)=TRUE,0,IF(B21=1,VLOOKUP($E$1,bewerkingen!$A$2:$C$30,2,FALSE),VLOOKUP($E$2,bewerkingen!$A$3:$C$30,2,FALSE))) -> 0 | Q21: =IF(ISBLANK(L21)=TRUE,0,IF(L21=1,VLOOKUP($E$1,bewerkingen!$A$2:$C$30,3,FALSE),VLOOKUP($E$2,bewerkingen!$A$3:$C$30,3,FALSE))) -> 0
H22: =_xlfn.SINGLE(IF(C22=0,0,(+E22*F22)/1000000*G22)) -> 0 | I22: =IF(H22=0,"",IF(H22<0.17,"ONDERDEEL",+H22*C22)) | J22: =IF(ISBLANK(B22)=TRUE,0,IF(B22=1,VLOOKUP($E$1,bewerkingen!$A$2:$C$30,2,FALSE),VLOOKUP($E$2,bewerkingen!$A$3:$C$30,2,FALSE))) -> 0 | Q22: =IF(ISBLANK(L22)=TRUE,0,IF(L22=1,VLOOKUP($E$1,bewerkingen!$A$2:$C$30,3,FALSE),VLOOKUP($E$2,bewerkingen!$A$3:$C$30,3,FALSE))) -> 0
H23: =_xlfn.SINGLE(IF(C23=0,0,(+E23*F23)/1000000*G23)) -> 0 | I23: =IF(H23=0,"",IF(H23<0.17,"ONDERDEEL",+H23*C23)) | J23: =IF(ISBLANK(B23)=TRUE,0,IF(B23=1,VLOOKUP($E$1,bewerkingen!$A$2:$C$30,2,FALSE),VLOOKUP($E$2,bewerkingen!$A$3:$C$30,2,FALSE))) -> 0 | Q23: =IF(ISBLANK(L23)=TRUE,0,IF(L23=1,VLOOKUP($E$1,bewerkingen!$A$2:$C$30,3,FALSE),VLOOKUP($E$2,bewerkingen!$A$3:$C$30,3,FALSE))) -> 0
H24: =_xlfn.SINGLE(IF(C24=0,0,(+E24*F24)/1000000*G24)) -> 0 | I24: =IF(H24=0,"",IF(H24<0.17,"ONDERDEEL",+H24*C24)) | J24: =IF(ISBLANK(B24)=TRUE,0,IF(B24=1,VLOOKUP($E$1,bewerkingen!$A$2:$C$30,2,FALSE),VLOOKUP($E$2,bewerkingen!$A$3:$C$30,2,FALSE))) -> 0 | Q24: =IF(ISBLANK(L24)=TRUE,0,IF(L24=1,VLOOKUP($E$1,bewerkingen!$A$2:$C$30,3,FALSE),VLOOKUP($E$2,bewerkingen!$A$3:$C$30,3,FALSE))) -> 0
H25: =_xlfn.SINGLE(IF(C25=0,0,(+E25*F25)/1000000*G25)) -> 0 | I25: =IF(H25=0,"",IF(H25<0.17,"ONDERDEEL",+H25*C25)) | J25: =IF(ISBLANK(B25)=TRUE,0,IF(B25=1,VLOOKUP($E$1,bewerkingen!$A$2:$C$30,2,FALSE),VLOOKUP($E$2,bewerkingen!$A$3:$C$30,2,FALSE))) -> 0 | Q25: =IF(ISBLANK(L25)=TRUE,0,IF(L25=1,VLOOKUP($E$1,bewerkingen!$A$2:$C$30,3,FALSE),VLOOKUP($E$2,bewerkingen!$A$3:$C$30,3,FALSE))) -> 0
... H70: =_xlfn.SINGLE(IF(C70=0,0,(+E70*F70)/1000000*G70)) -> 0 | I70: =IF(H70=0,"",IF(H70<0.17,"ONDERDEEL",+H70*C70)) | J70: =IF(ISBLANK(B70)=TRUE,0,IF(B70=1,VLOOKUP($E$1,bewerkingen!$A$2:$C$30,2,FALSE),VLOOKUP($E$2,bewerkingen!$A$3:$C$30,2,FALSE))) -> 0 | Q70: =IF(ISBLANK(L70)=TRUE,0,IF(L70=1,VLOOKUP($E$1,bewerkingen!$A$2:$C$30,3,FALSE),VLOOKUP($E$2,bewerkingen!$A$3:$C$30,3,FALSE))) -> 0

Sheet bewerkingen
A1: Bewerking | B1: M2 | C1: ONDERDELEN | D1: minimumorderwaarde artikel | E1: Prijsafspraak | F1: Energietoeslag | G1: Metaliseren ja/nee | I1: Lijst
A2: Stralen, 1 laags poedercoaten | B2: O-1xPC-M2 | C2: O-1xPC-OND | D2: O-1xPC-MIN | E2: O-1XPC-PA | G2: Nee | I2: JA
A3: Stralen, 2 laags poedercoaten | B3: O-2xPC-M2 | C3: O-2xPC-OND | D3: O-2xPC-MIN | E3: O-2XPC-PA | G3: Nee | I3: NEE
A4: Stralen, 3 laags poedercoaten | B4: O-3xPC-M2 | C4: O-3XPC-OND | D4: O-3xPC-MIN | E4: O-3XPC-PA | G4: Nee
A5: Stralen, metaliseren, 2 laags poedercoaten | B5: OX-2xPC-M2 | C5: OX-2xPC-OND | D5: OX-2xPC-MIN | E5: OX-2XPC-PA | G5: Ja
A6: Stralen, metaliseren, 3 laags poedercoaten | B6: OX-3xPC-M2 | C6: OX-3xPC-OND | D6: OX-3xPC-MIN | E6: OX-3xPC-PA | G6: Ja
A7: Kaalstralen en metalliseren | B7: kaal-OX | C7: kaal-OX | D7: kaal-OX-MIN | E7: kaal-OX-PA | G7: Ja
A8: Kaalstralen, 1 laags poedercoaten | B8: kaalO-1xPC-M2 | C8: kaalO-1xPC-OND | D8: kaal-OX-MIN | E8: kaal-OX-PA | G8: Nee
A9: Kaalstralen, 2 laags poedercoaten | B9: kaalO-2xPC-M2 | C9: kaalO-2xPC-OND | D9: kaalO-2xPC-MIN | E9: kaalO-2xPC-PA | G9: Nee
A10: Kaalstralen, metaliseren, 2 laags poedercoaten | B10: kaalOX-2xPC-M2 | C10: kaalOX-2xPC-OND | D10: kaalOX-2xPC-MIN | E10: kaalOX-2xPC-PA | G10: Ja
A11: Farina Stralen + 1 laags PC | B11: Farina | C11: Farina | D11: geen | E11: geen | G11: Nee
A12: Kaal stralen | B12: kaal stralen | C12: kaal stralen | D12: geen | E12: geen | G12: Nee
A13: Deksel 3laag Epoxy (a la Rilsaneren) / m2 | B13: RILS-3xPC RILS-M2 | C13: RILS-3xPC RILS-STUK | D13: geen | E13: geen | G13: Nee
A14: Lakstift | B14: 090-016 | C14: niet van toepassing | D14: geen | E14: geen | G14: Nee

Sheet klanten
A1: index | B1: Kolom1 | C1: klantnaam | D1: klant type | E1: verkoper | F1: prijslijst koppeling
A2: 1 | B2: 10526 | C2: Aalbers/Wico Defence & Security | D2: Poedercoat klant | E2: Wick Vermeulen | F2: Aalbers Wico | H2: =+Tabel1[[#This Row],[Kolom1]]+1-1 -> 10526
A3: 2 | B3: 10542 | C3: Blonk | D3: Poedercoat klant | E3: Wick Vermeulen | F3: Prijslijst Blonk | H3: =+Tabel1[[#This Row],[Kolom1]]+1-1 -> 10542
A4: 3 | B4: 10588 | C4: HTC parking & security B.V. | D4: Poedercoat klant | E4: Wick Vermeulen | F4: HTC Prijslijst | H4: =+Tabel1[[#This Row],[Kolom1]]+1-1 -> 10588
A5: 3 | B5: 10801 | C5: HTC Service & Instalation BV | E5: Wick Vermeulen | F5: HTC Prijslijst | H5: =+Tabel1[[#This Row],[Kolom1]]+1-1 -> 10801
A6: 4 | B6: 10728 | C6: A. vermeij beheer | D6: Poedercoat klant | E6: Wick Vermeulen | F6: Standaard prijslijst poedercoaten | H6: =+Tabel1[[#This Row],[Kolom1]]+1-1 -> 10728
A7: 5 | B7: 10525 | C7: 4More Technology B.V. | D7: Poedercoat klant | E7: Wick Vermeulen | F7: Standaard prijslijst poedercoaten | H7: =+Tabel1[[#This Row],[Kolom1]]+1-1 -> 10525
A8: 5 | B8: 11057 | C8: A. Hogendoorn Metaalbewerking | E8: Wick Vermeulen | F8: Standaard prijslijst poedercoaten | H8: =+Tabel1[[#This Row],[Kolom1]]+1-1 -> 11057
A9: 5 | B9: 11169 | C9: Alexanderpark Ouddorp BV | E9: Gerwin Smaal | F9: Standaard prijslijst poedercoaten | H9: =+Tabel1[[#This Row],[Kolom1]]+1-1 -> 11169
A10: 5 | B10: 10529 | C10: ARCO metaal B.V. | D10: Poedercoat klant | E10: Wick Vermeulen | F10: Standaard prijslijst poedercoaten | H10: =+Tabel1[[#This Row],[Kolom1]]+1-1 -> 10529
A11: 6 | B11: 10655 | C11: Aannemingsbedrijf Van Zoest B.V. | D11: Poedercoat klant | E11: Wick Vermeulen | F11: Standaard prijslijst poedercoaten | H11: =+Tabel1[[#This Row],[Kolom1]]+1-1 -> 10655
A12: 7 | B12: 10527 | C12: ABC Hekwerk Westland / Rijnmond | D12: Poedercoat klant | E12: Wick Vermeulen | F12: Standaard prijslijst poedercoaten | H12: =+Tabel1[[#This Row],[Kolom1]]+1-1 -> 10527
A13: 8 | B13: 10704 | C13: ABC Techniek B.V. | D13: Poedercoat klant | E13: Wick Vermeulen | F13: Standaard prijslijst poedercoaten | H13: =+Tabel1[[#This Row],[Kolom1]]+1-1 -> 10704
A14: 9 | B14: 11214 | C14: Air Exchange | E14: Wick Vermeulen | F14: Standaard prijslijst poedercoaten | H14: =+Tabel1[[#This Row],[Kolom1]]+1-1 -> 11214
A15: 10 | B15: 10947 | C15: Alebra FireProtection Sprinklers | E15: Wick Vermeulen | F15: Standaard prijslijst poedercoaten | H15: =+Tabel1[[#This Row],[Kolom1]]+1-1 -> 10947
A16: 11 | B16: 10013 | C16: ALECS BV | D16: Custom klant | E16: Wick Vermeulen | F16: Standaard prijslijst poedercoaten | H16: =+Tabel1[[#This Row],[Kolom1]]+1-1 -> 10013
A17: 12 | B17: 11195 | C17: All Modul B.V. | E17: Wick Vermeulen | F17: Standaard prijslijst poedercoaten | H17: =+Tabel1[[#This Row],[Kolom1]]+1-1 -> 11195
A18: 13 | B18: 10547 | C18: Alles laten logen | D18: Poedercoat klant | E18: Wick Vermeulen | F18: Standaard prijslijst poedercoaten | H18: =+Tabel1[[#This Row],[Kolom1]]+1-1 -> 10547
A19: 14 | B19: 10528 | C19: ALOI-DESIGN | D19: Poedercoat klant | E19: Wick Vermeulen | F19: Standaard prijslijst poedercoaten | H19: =+Tabel1[[#This Row],[Kolom1]]+1-1 -> 10528
A20: 15 | B20: 11206 | C20: Amusementsbedrijf TCPJ van den Bulk | D20: Poedercoat klant | F20: Standaard prijslijst poedercoaten | H20: =+Tabel1[[#This Row],[Kolom1]]+1-1 -> 11206
A21: 16 | B21: 11039 | C21: APCZ poeder coating Zuidland | E21: Wick Vermeulen | F21: Standaard prijslijst poedercoaten | H21: =+Tabel1[[#This Row],[Kolom1]]+1-1 -> 11039
A22: 17 | B22: 11274 | C22: Aqua+ Sprinklersystemen | E22: Wick Vermeulen | F22: Standaard prijslijst poedercoaten | H22: =+Tabel1[[#This Row],[Kolom1]]+1-1 -> 11274
A23: 19 | B23: 10776 | C23: Armada Mobility B.V. | D23: Poedercoat klant | E23: Wick Vermeulen | F23: Standaard prijslijst poedercoaten | H23: =+Tabel1[[#This Row],[Kolom1]]+1-1 -> 10776
A24: 20 | B24: 10936 | C24: Arno Bremer Produkties B.V. | E24: Wick Vermeulen | F24: Standaard prijslijst poedercoaten | H24: =+Tabel1[[#This Row],[Kolom1]]+1-1 -> 10936
A25: 21 | B25: 10530 | C25: ARO Beheer B.V. | D25: Poedercoat klant | E25: Wick Vermeulen | F25: Standaard prijslijst poedercoaten | H25: =+Tabel1[[#This Row],[Kolom1]]+1-1 -> 10530
A26: 22 | B26: 10531 | C26: Array Industries B.V. | D26: Poedercoat klant | E26: Wick Vermeulen | F26: Standaard prijslijst poedercoaten | H26: =+Tabel1[[#This Row],[Kolom1]]+1-1 -> 10531
A27: 23 | B27: 10886 | C27: Artworx v.o.f. | E27: Wick Vermeulen | F27: Standaard prijslijst poedercoaten | H27: =+Tabel1[[#This Row],[Kolom1]]+1-1 -> 10886
A28: 24 | B28: 10532 | C28: Astralift b.v. | D28: Poedercoat klant | E28: Wick Vermeulen | F28: Standaard prijslijst poedercoaten | H28: =+Tabel1[[#This Row],[Kolom1]]+1-1 -> 10532
A29: 25 | B29: 10843 | C29: ASW Autoschade Waddinxveen | D29: Poedercoat klant | E29: Wick Vermeulen | F29: Standaard prijslijst poedercoaten | H29: =+Tabel1[[#This Row],[Kolom1]]+1-1 -> 10843
A30: 26 | B30: 10533 | C30: Autobedrijf "Reijerskoop" | D30: Poedercoat klant | E30: Wick Vermeulen | F30: Standaard prijslijst poedercoaten | H30: =+Tabel1[[#This Row],[Kolom1]]+1-1 -> 10533
A31: 27 | B31: 10954 | C31: Autobedrijf R.Evers | E31: Wick Vermeulen | F31: Standaard prijslijst poedercoaten | H31: =+Tabel1[[#This Row],[Kolom1]]+1-1 -> 10954
A32: 28 | B32: 11114 | C32: Autoherstel van der Laan | F32: Standaard prijslijst poedercoaten | H32: =+Tabel1[[#This Row],[Kolom1]]+1-1 -> 11114
A33: 29 | B33: 10534 | C33: AVM Industrial Parts BV | D33: Poedercoat klant | E33: Wick Vermeulen | F33: Standaard prijslijst poedercoaten | H33: =+Tabel1[[#This Row],[Kolom1]]+1-1 -> 10534
A34: 30 | B34: 11139 | C34: AVR Watersport B.V. | E34: Wick Vermeulen | F34: Standaard prijslijst poedercoaten | H34: =+Tabel1[[#This Row],[Kolom1]]+1-1 -> 11139
A35: 31 | B35: 10536 | C35: Awad | D35: Poedercoat klant | E35: Wick Vermeulen | F35: Standaard prijslijst poedercoaten | H35: =+Tabel1[[#This Row],[Kolom1]]+1-1 -> 10536
A36: 32 | B36: 10537 | C36: BAC Machinebouw B.V. | D36: Poedercoat klant | E36: Wick Vermeulen | F36: Standaard prijslijst poedercoaten | H36: =+Tabel1[[#This Row],[Kolom1]]+1-1 -> 10537
A37: 33 | B37: 10999 | C37: BAC Verspaning B.V. | E37: Wick Vermeulen | F37: Standaard prijslijst poedercoaten | H37: =+Tabel1[[#This Row],[Kolom1]]+1-1 -> 10999
A38: 34 | B38: 10538 | C38: BB Constructiewerken (NIET GEBRUIKEN) | D38: Poedercoat klant | E38: Wick Vermeulen | F38: Standaard prijslijst poedercoaten | H38: =+Tabel1[[#This Row],[Kolom1]]+1-1 -> 10538
A39: 35 | B39: 10539 | C39: Beaujan & De Vos BV | D39: Poedercoat klant | E39: Wick Vermeulen | F39: Standaard prijslijst poedercoaten | H39: =+Tabel1[[#This Row],[Kolom1]]+1-1 -> 10539
A40: 36 | B40: 10967 | C40: Bergschenhoekse Constructiebouw B.V. | E40: Wick Vermeulen | F40: Standaard prijslijst poedercoaten | H40: =+Tabel1[[#This Row],[Kolom1]]+1-1 -> 10967
...

Sheet weekdagen
A1: 1 | B1: maandag
A2: 2 | B2: dinsdag
A3: 3 | B3: woensdag
A4: 4 | B4: donderdag
A5: 5 | B5: vrijdag
A6: 6 | B6: zaterdag
A7: 7 | B7: zondag

Sheet proces en easylink
A1: Instellen easylink
M2: volgorde prijs hantering
A3: bewerking 1 | B3: maximaal 2 bewerkingen per order
A4: bewerking 2 | B4: maximaal 2 bewerkingen per order | M4: Prijslijst
A5: energie toeslag | B5: artikel in vrije veld van de bewerking wordt gebruikt. Waarbij bij 1 onderdeel; 0,1 m2 is. | M5: Prijsafspraak klant op artikel
A6: laagdikte rapport | B6: 1 regel met , aantal 1 , tegen prijs 0 | I6: hoe moet men dit doen? Debiteuren nummer + betalingsreferentie | M6: Artikelprijs
A7: Laagdikte rapport | B7: Als er een artikel laagdikte voorkomt op de order, dan label laagdikte aanzetten in V-plan
A8: Meerprijs poeder | B8: 1 regel met , aantal 1 , tegen aangegeven prijs
A9: Aanvulling | B9: 1 regel met , aangeven aantal , tegen aangegeven prijs, met omschrijving in de artikelnotities
A10: Vaste prijsafspraak | B10: Order opvoeren als m2 * afgesproken prijs… | J10: Ophalen van bestand; en aanmaken op anders folderonder salesordernummer. Oude file naar andere folder?
A13: Is het mogelijk om het label "metaliseren" aan te zetten inV-plan, als artikel met metaliseren wordt gebruikt?
B14: customveld invullen voor toevoegen van een label
B19: een klant moet altijd gekoppeld zijn aan een prijslijst
B20: Prijslijst moet minimum orderwaarde bevatten

Sheet verkoper
A2: Wick | B2: 1 | C2: 2116140 | D2: 477e66b0-1064-4d83-a71f-744c202c406f
A3: Inge | B3: 2 | C3: 2116152 | D3: 30cb4967-a8ab-4f7b-a82e-8292815ecf36
A4: Ton | B4: 3 | C4: 2116138 | D4: 20081471-cf33-492b-acfa-0a065186c95d
A5: Daniel | B5: 4 | C5: 2116141 | D5: d55875ee-27d3-4696-a557-5571c4b89dc6
A6: Gerwin | B6: 5 | C6: 2116134 | D6: 94223b38-d29e-4887-8a70-fb5ec1588568
A7: Diana | B7: 6 | C7: xxx | D7: 5af42c7a-1bab-4c0b-a686-e87fa24e2839
A8: Michelle | B8: 7 | C8: 2118804 | D8: 9422cfab-fe85-439d-84a8-3317d27b3d32
